BEGIN:VCALENDAR
VERSION:2.0
PRODID:-//Ravenna Township - ECPv6.15.20//NONSGML v1.0//EN
CALSCALE:GREGORIAN
METHOD:PUBLISH
X-WR-CALNAME:Ravenna Township
X-ORIGINAL-URL:https://www.ravennatownship.com
X-WR-CALDESC:Events for Ravenna Township
REFRESH-INTERVAL;VALUE=DURATION:PT1H
X-Robots-Tag:noindex
X-PUBLISHED-TTL:PT1H
BEGIN:VTIMEZONE
TZID:America/New_York
BEGIN:DAYLIGHT
TZOFFSETFROM:-0500
TZOFFSETTO:-0400
TZNAME:EDT
DTSTART:20230312T070000
END:DAYLIGHT
BEGIN:STANDARD
TZOFFSETFROM:-0400
TZOFFSETTO:-0500
TZNAME:EST
DTSTART:20231105T060000
END:STANDARD
BEGIN:DAYLIGHT
TZOFFSETFROM:-0500
TZOFFSETTO:-0400
TZNAME:EDT
DTSTART:20240310T070000
END:DAYLIGHT
BEGIN:STANDARD
TZOFFSETFROM:-0400
TZOFFSETTO:-0500
TZNAME:EST
DTSTART:20241103T060000
END:STANDARD
BEGIN:DAYLIGHT
TZOFFSETFROM:-0500
TZOFFSETTO:-0400
TZNAME:EDT
DTSTART:20250309T070000
END:DAYLIGHT
BEGIN:STANDARD
TZOFFSETFROM:-0400
TZOFFSETTO:-0500
TZNAME:EST
DTSTART:20251102T060000
END:STANDARD
END:VTIMEZONE
BEGIN:VEVENT
DTSTART;TZID=America/New_York:20241106T173000
DTEND;TZID=America/New_York:20241106T180000
DTSTAMP:20260423T110834
CREATED:20241104T182927Z
LAST-MODIFIED:20241104T182927Z
UID:3458-1730914200-1730916000@www.ravennatownship.com
SUMMARY:Trustees Special Meeting
DESCRIPTION:This special meeting is for the Trustees to consult with attorney and to award construction contract
URL:https://www.ravennatownship.com/calendar/trustees-special-meeting-3/
LOCATION:OH
END:VEVENT
BEGIN:VEVENT
DTSTART;TZID=America/New_York:20241112T190000
DTEND;TZID=America/New_York:20241112T200000
DTSTAMP:20260423T110834
CREATED:20240123T122836Z
LAST-MODIFIED:20240123T122836Z
UID:3144-1731438000-1731441600@www.ravennatownship.com
SUMMARY:Trustees Public Meeting
DESCRIPTION:
URL:https://www.ravennatownship.com/calendar/trustees-public-meeting-20/
LOCATION:OH
END:VEVENT
BEGIN:VEVENT
DTSTART;TZID=America/New_York:20241115T163000
DTEND;TZID=America/New_York:20241115T173000
DTSTAMP:20260423T110834
CREATED:20241115T145451Z
LAST-MODIFIED:20241115T145451Z
UID:3463-1731688200-1731691800@www.ravennatownship.com
SUMMARY:Special Trustees Meeting 4:30 PM
DESCRIPTION:This meeting is to discuss Fire Department.
URL:https://www.ravennatownship.com/calendar/special-trustees-meeting-430-pm/
LOCATION:OH
END:VEVENT
BEGIN:VEVENT
DTSTART;TZID=America/New_York:20241121T173000
DTEND;TZID=America/New_York:20241121T190000
DTSTAMP:20260423T110834
CREATED:20241120T161528Z
LAST-MODIFIED:20241120T162345Z
UID:3475-1732210200-1732215600@www.ravennatownship.com
SUMMARY:Special Trustees Meeting (see description)
DESCRIPTION:Trustees will have an executive session to discuss employment at 5:30PM. The general session for the fire department will begin at 6:00PM.
URL:https://www.ravennatownship.com/calendar/special-trustees-meeting-see-description/
LOCATION:OH
END:VEVENT
BEGIN:VEVENT
DTSTART;TZID=America/New_York:20241125T130000
DTEND;TZID=America/New_York:20241125T150000
DTSTAMP:20260423T110834
CREATED:20241122T111809Z
LAST-MODIFIED:20241122T111809Z
UID:3478-1732539600-1732546800@www.ravennatownship.com
SUMMARY:Special Meeting with PC Water Resources
DESCRIPTION:Special meeting with Portage County Water Resources regarding the Townships new storage structure.
URL:https://www.ravennatownship.com/calendar/special-meeting-with-pc-water-resources/
LOCATION:OH
END:VEVENT
BEGIN:VEVENT
DTSTART;TZID=America/New_York:20241126T190000
DTEND;TZID=America/New_York:20241126T200000
DTSTAMP:20260423T110834
CREATED:20240123T122935Z
LAST-MODIFIED:20240123T122935Z
UID:3146-1732647600-1732651200@www.ravennatownship.com
SUMMARY:Trustees Public Meeting
DESCRIPTION:
URL:https://www.ravennatownship.com/calendar/trustees-public-meeting-21/
LOCATION:OH
END:VEVENT
END:VCALENDAR